BEGIN:VCALENDAR
VERSION:2.0
PRODID:-//Eventin//Event Calendar//EN
CALSCALE:GREGORIAN
METHOD:PUBLISH
BEGIN:VEVENT
UID:e0e1e8d302beeaf6fc4e8ba24484f96b@amityreformedchurch.net
SUMMARY:Strawberry Social
DESCRIPTION:Join us for delicious strawberries over homemade biscuits toppe
 d with whipped cream. This is a by donation event.
LOCATION:335 Riverview Rd. Rexford\, NY 12148
DTSTAMP:20260425T103010Z
DTSTART:20260618T220000Z
DTEND:20260619T000000Z
END:VEVENT
END:VCALENDAR
