BEGIN:VCALENDAR
VERSION:2.0
PRODID:-//Eventin//Event Calendar//EN
CALSCALE:GREGORIAN
METHOD:PUBLISH
BEGIN:VEVENT
UID:bdcfed86f36ea745b82a55a655be0a93@amityreformedchurch.net
SUMMARY:Day Trip to Sunnycrest Markets
DESCRIPTION:The recreation club is planning a day trip to Sunnycrest Market
 s in Sharon Springs for lunch and shopping. Sunnycrest is a traditional Ami
 sh market place. We will meet in the Amity parking lot at 10 a.m.
LOCATION:Sunnycrest Markets 7869 NY-10 Sharon Springs\, NY
DTSTAMP:20260425T110057Z
DTSTART:20260507T140000Z
DTEND:20260507T183000Z
END:VEVENT
END:VCALENDAR
