BEGIN:VCALENDAR
VERSION:2.0
PRODID:-//Eventin//Event Calendar//EN
CALSCALE:GREGORIAN
METHOD:PUBLISH
BEGIN:VEVENT
UID:347f0bc758d8cd545d6c0b157405281a@amityreformedchurch.net
SUMMARY:Communion Sunday
DESCRIPTION:Communion will be served during worship service. 
LOCATION:335 Riverview Rd. Rexford\, NY 12148
DTSTAMP:20260425T104312Z
DTSTART:20260607T140000Z
DTEND:20260607T150000Z
END:VEVENT
END:VCALENDAR
